BEGIN:VCALENDAR
VERSION:2.0
PRODID:-//KidZania Hà Nội - ECPv6.15.20//NONSGML v1.0//EN
CALSCALE:GREGORIAN
METHOD:PUBLISH
X-WR-CALNAME:KidZania Hà Nội
X-ORIGINAL-URL:https://kidzania.com.vn
X-WR-CALDESC:Events for KidZania Hà Nội
REFRESH-INTERVAL;VALUE=DURATION:PT1H
X-Robots-Tag:noindex
X-PUBLISHED-TTL:PT1H
BEGIN:VTIMEZONE
TZID:Asia/Ho_Chi_Minh
BEGIN:STANDARD
TZOFFSETFROM:+0700
TZOFFSETTO:+0700
TZNAME:+07
DTSTART:20240101T000000
END:STANDARD
END:VTIMEZONE
BEGIN:VEVENT
DTSTART;VALUE=DATE:20251224
DTEND;VALUE=DATE:20260109
DTSTAMP:20260421T204239
CREATED:20260106T082252Z
LAST-MODIFIED:20260109T083553Z
UID:9232-1766534400-1767916799@kidzania.com.vn
SUMMARY:✈️CHECK-IN CÙNG SKY TREE: TRAO ĐIỀU ƯỚC - RƯỚC QUÀ MAY🎊
DESCRIPTION:Gửi gắm điều ước năm mới cùng Vietnam Airlines & KidZania để những ước mơ được bay cao – bay xa trong năm 2026 với sự kiện “check-in cùng Sky Tree” nào bạn ơi!😍 \n📍Thời gian: 𝟐𝟒/𝟏𝟐/𝟐𝟎𝟐𝟓 – 𝟎𝟒/𝟎𝟏/𝟐𝟎𝟐𝟔 \n📌CÁCH THAM GIA:\n1️⃣ Chụp ảnh check-in cùng Cây thông Sky Tree và máy bay Vietnam Airlines tại KidZania\n2️⃣ Đăng ảnh lên trang cá nhân kèm Điểm đến du lịch mơ ước của bạn trong năm 2026 với hashtag: #Newwish2026 #KidZaniaHanoi #VietnamAirlines\n3️⃣Ghé khu vực Airport tại KidZania để nhân viên xác nhận bài viết & nhận ngay Thẻ Điều Ước\n4️⃣ Viết lời chúc và tự tay treo lên Sky Tree để ước nguyện đầu năm được cất cánh vươn xa\n5️⃣ Nhấn theo dõi Facebook KidZania Hà Nội và chờ kết quả bốc thăm may mắn \n🎁GIẢI THƯỞNG:\n🥇 1 Giải Nhất: thẻ Zuper Pass trải nghiệm miễn phí 2 tháng\n🥈 2 Giải Nhì: thẻ Zuper Pass trải nghiệm miễn phí 1 tháng\n🥉 3 Giải Ba: 1 cặp vé mời KidZania (1 trẻ em + 1 người lớn)\n* Ngoài ra\, mỗi giải thưởng còn đi kèm những món quà xinh xắn bất ngờ! \n𝐋𝐮̛𝐮 𝐲́:\n🔸Bài đăng Facebook/Instagram phải để CÔNG KHAI và giữ nguyên đến khi trao giải\n🔸Mỗi lượt check-in hợp lệ được nhận 01 phiếu bốc thăm may mắn\n🔸Quyết định của KidZania Hà Nội là quyết định cuối cùng \n💙 Còn chờ gì nữa? Dẫn bé iuu đến KidZania\, check-in ngay hôm nay để gieo điều ước – rước quà xinh thôi bạn ơi!✨✈️
URL:https://kidzania.com.vn/event/check-in-cung-sky-tree-trao-dieu-uoc-ruoc-qua-may/
CATEGORIES:Lễ hội
ATTACH;FMTTYPE=image/png:https://kidzania.com.vn/wp-content/uploads/2026/01/Skytree-Photo-Event-SNS-1.png
END:VEVENT
BEGIN:VEVENT
DTSTART;VALUE=DATE:20260109
DTEND;VALUE=DATE:20260223
DTSTAMP:20260421T204239
CREATED:20260109T090158Z
LAST-MODIFIED:20260120T023941Z
UID:9248-1767916800-1771804799@kidzania.com.vn
SUMMARY:🌸SKY TREE "TRAO ĐIỀU ƯỚC - RƯỚC QUÀ MAY" CHẶNG THỨ 2✨
DESCRIPTION:Chỉ sau hơn 2 tuần diễn ra\, Sky Tree đã nhận được sự hưởng ứng nhiệt tình từ Quý khách hàng\, nay càng bùng nổ hơn với sự đồng hành của Vietnam Airlines.✈️ \nThời gian chặng thứ 2 chương trình: từ 09/01 – 22/02/2026 \n🎁GIẢI THƯỞNG:\n🏅 1 Giải Đặc biệt: 2 cặp vé máy bay khứ hồi nội địa Vietnam Airlines\n🥇 1 Giải Nhất: thẻ Zuper Pass trải nghiệm miễn phí 2 tháng\n🥈 2 Giải Nhì: thẻ Zuper Pass trải nghiệm miễn phí 1 tháng\n🥉 3 Giải Ba: 1 cặp vé mời KidZania (1 trẻ em + 1 người lớn)\n* Ngoài ra\, mỗi giải thưởng còn đi kèm những món quà xinh xắn từ KidZania Hà Nội và đối tác Vietnam Airlines.\n📌 Lưu ý về ĐIỀU KIỆN SỬ DỤNG VÉ: https://bit.ly/dieukiensudungve \n🌀CÁCH THAM GIA:\n1️⃣ Chụp ảnh check-in cùng Sky Tree và máy bay Vietnam Airlines tại KidZania\n2️⃣ Đăng ảnh lên trang cá nhân kèm Điểm đến du lịch mơ ước của bạn trong năm 2026 với hashtag: #Newwish2026 #KidZaniaHanoi #VietnamAirlines\n3️⃣Ghé khu vực Airport tại KidZania để nhân viên xác nhận bài viết & nhận ngay Thẻ Điều Ước\n4️⃣ Viết lời chúc và tự tay treo lên Sky Tree để ước nguyện đầu năm được cất cánh vươn xa\n5️⃣ Nhấn theo dõi Facebook KidZania Hà Nội và chờ kết quả bốc thăm may mắn \n𝐋𝐮̛𝐮 𝐲́:\n🔸Bài đăng Facebook/Instagram phải để CÔNG KHAI và giữ nguyên đến khi trao giải\n🔸Mỗi lượt check-in hợp lệ được nhận 01 phiếu bốc thăm may mắn\n🔸Quyết định của KidZania Hà Nội là quyết định cuối cùng
URL:https://kidzania.com.vn/event/sky-tree-trao-dieu-uoc-ruoc-qua-may-chang-thu-2/
CATEGORIES:Lễ hội
ATTACH;FMTTYPE=image/png:https://kidzania.com.vn/wp-content/uploads/2026/01/POP-vuong-Sky-Tree-Phase-2.png
END:VEVENT
BEGIN:VEVENT
DTSTART;VALUE=DATE:20260109
DTEND;VALUE=DATE:20260302
DTSTAMP:20260421T204239
CREATED:20260113T091656Z
LAST-MODIFIED:20260203T064756Z
UID:9274-1767916800-1772409599@kidzania.com.vn
SUMMARY:🧧TẾT SUM VẦY - RỘN RÀNG CHÀO ĐÓN NĂM BÍNH NGỌ 2026🎋
DESCRIPTION:Vô vàn hoạt động Tết Sum Vầy đặc biệt đang chờ các bạn nhỏ đến trải nghiệm tại KidZania! \n✔️Check in Cây Nguyện Ước Sky Tree (9/1 – 22/02/2026) \n✔️Trải nghiệm tại các cơ sở mang chủ đề Tết (15/1 – 28/2/2026) \n✔️Hái lộc đầu năm (30/1 – 1/3/2026) \nTết Nguyên Đán 2026 này\, hẹn cả gia đình ở KidZania nhé!
URL:https://kidzania.com.vn/event/tet-sum-vay-ron-rang-chao-don-nam-binh-ngo-2026/
CATEGORIES:Lễ hội
ATTACH;FMTTYPE=image/jpeg:https://kidzania.com.vn/wp-content/uploads/2026/01/SNS-Digital_Facebook.jpg
END:VEVENT
BEGIN:VEVENT
DTSTART;VALUE=DATE:20260130
DTEND;VALUE=DATE:20260302
DTSTAMP:20260421T204239
CREATED:20260129T064845Z
LAST-MODIFIED:20260129T065213Z
UID:9420-1769731200-1772409599@kidzania.com.vn
SUMMARY:🎋HÁI LỘC ĐẦU NĂM – TRÚNG QUÀ SÍT RỊT 🧧
DESCRIPTION:Không khí Tết đã tràn ngập khắp các con phố KidZania rồi! Để khai xuân thêm rực rỡ và nhận “vía” may mắn\, mời cả nhà cùng tham gia chương trình đặc biệt: HÁI LỘC ĐẦU NĂM! \n⏰ Thời gian: Từ 30/01 đến 01/03/2026 \nChỉ với vài bước đơn giản\, cơ hội nhận ngay những bao lì xì khủng👇 \n✅Check-in & tham gia cùng sự kiện “Sky Tree – Trao điều ước\, Rước quà may” \n✅Nhận ngay lượt Rút thăm may mắn: Cơ hội trúng Lì xì lên đến 50 kidZos và những phần quà “bí mật” cực kỳ hấp dẫn chỉ có tại KidZania! \nLộc xuân đang chờ\, đừng bỏ lỡ cơ hội để các bạn nhỏ khởi đầu năm mới đầy niềm vui và lộc lá nhé!🤗 \n 
URL:https://kidzania.com.vn/event/hai-loc-dau-nam-trung-qua-sit-rit/
CATEGORIES:Lễ hội
ATTACH;FMTTYPE=image/jpeg:https://kidzania.com.vn/wp-content/uploads/2026/01/hai-loc.jpg
END:VEVENT
END:VCALENDAR