BEGIN:VCALENDAR
VERSION:2.0
PRODID:-//KidZania Hà Nội - ECPv6.15.20//NONSGML v1.0//EN
CALSCALE:GREGORIAN
METHOD:PUBLISH
X-WR-CALNAME:KidZania Hà Nội
X-ORIGINAL-URL:https://kidzania.com.vn
X-WR-CALDESC:Events for KidZania Hà Nội
REFRESH-INTERVAL;VALUE=DURATION:PT1H
X-Robots-Tag:noindex
X-PUBLISHED-TTL:PT1H
BEGIN:VTIMEZONE
TZID:Asia/Ho_Chi_Minh
BEGIN:STANDARD
TZOFFSETFROM:+0700
TZOFFSETTO:+0700
TZNAME:+07
DTSTART:20240101T000000
END:STANDARD
END:VTIMEZONE
BEGIN:VEVENT
DTSTART;VALUE=DATE:20251128
DTEND;VALUE=DATE:20260101
DTSTAMP:20260422T073720
CREATED:20251128T030240Z
LAST-MODIFIED:20251128T065332Z
UID:8719-1764288000-1767225599@kidzania.com.vn
SUMMARY:[Santa Tour All Care] - 🎅Trải nghiệm All-Care phiên bản Giáng Sinh ấm áp🧣 
DESCRIPTION:Santa Tour All Care\nMùa Giáng Sinh này\, hãy để các bé trải nghiệm dịch vụ All-Care theo cách hoàn toàn mới – rộn ràng niềm vui và ngập tràn không khí lễ hội!  \n🔥Đặc biệt: Giá Santa Tour vẫn giữ nguyên\, không đổi giống như dịch vụ All-Care KidZania thông thường (chỉ cần thêm 100k so với giá vé trải nghiệm)  \n🎄Bé được nhập cảnh độc lập\, không cần người lớn đi kèm  \n🎄Zupervisor giàu kinh nghiệm đồng hành  \n🎄Tận hưởng 3 trải nghiệm mang màu sắc Giáng sinh và 2 nghề nghiệp tự chọn!   \n🎄Thưởng thức phần ăn nhẹ thơm ngon  \n🎄Lưu giữ những khoảnh khắc đẹp cho bé  \nKidZania hứa hẹn sẽ mang đến một mùa Giáng Sinh với vô vàn niềm vui và kỷ niệm đẹp!⛄  \nInbox/LH: 𝟏𝟗𝟎𝟎 𝟎𝟏𝟏𝟒 đặt lịch ngay để không bỏ lỡ cơ hội này!✨ 
URL:https://kidzania.com.vn/event/santa-tour-all-care/
LOCATION:KidZania Hà Nội\, 5 Floor\, LOTTE Mall\, 272 Vo Chi Cong Str\, Hanoi\, Hanoi\, Viet Nam
CATEGORIES:Lễ hội
ATTACH;FMTTYPE=image/jpeg:https://kidzania.com.vn/wp-content/uploads/2025/11/Santa-tour-All-Care.jpg
END:VEVENT
BEGIN:VEVENT
DTSTART;VALUE=DATE:20251128
DTEND;VALUE=DATE:20260101
DTSTAMP:20260422T073720
CREATED:20251128T071922Z
LAST-MODIFIED:20251128T071922Z
UID:8733-1764288000-1767225599@kidzania.com.vn
SUMMARY:[SANTA MISSIONS] - Nhiệm vụ đặc biệt của Ông già Noel
DESCRIPTION:Tham gia Santa Missions\, nhiệm vụ đặc biệt của Ông già Noel và đón chào mùa Giáng Sinh rực rỡ tại vùng đất diệu kỳ KidZania Hà Nội \n28/11/2025 – 31/12/2025 \nNhiệm vụ 1: Nấu 1 món ăn Giáng Sinh tại cơ sở Học viện nấu ăn \nNhiệm vụ 2: Trang trí Giáng Sinh tại Khách sạn \nNhiệm vụ cuối: Đến Học viện diễn xuất tham gia diễu hành và tặng quà Giáng Sinh cho mọi người. \nSau khi hoàn thành\, các bạn nhỏ sẽ nhận được quà tặng đặc biệt dịp Noel.
URL:https://kidzania.com.vn/event/santa-missions-nhiem-vu-cua-ong-gia-noel/
LOCATION:KidZania Hà Nội\, 5 Floor\, LOTTE Mall\, 272 Vo Chi Cong Str\, Hanoi\, Hanoi\, Viet Nam
CATEGORIES:Lễ hội
ATTACH;FMTTYPE=image/jpeg:https://kidzania.com.vn/wp-content/uploads/2025/11/Santa-mission.jpg
END:VEVENT
END:VCALENDAR